BEGIN:VCALENDAR
VERSION:2.0
PRODID:-//Brassimo - ECPv5.3.0//NONSGML v1.0//EN
CALSCALE:GREGORIAN
METHOD:PUBLISH
X-WR-CALNAME:Brassimo
X-ORIGINAL-URL:https://www.brassimo.at
X-WR-CALDESC:Veranstaltungen für Brassimo
BEGIN:VTIMEZONE
TZID:Europe/Berlin
BEGIN:DAYLIGHT
TZOFFSETFROM:+0100
TZOFFSETTO:+0200
TZNAME:CEST
DTSTART:20250330T010000
END:DAYLIGHT
BEGIN:STANDARD
TZOFFSETFROM:+0200
TZOFFSETTO:+0100
TZNAME:CET
DTSTART:20251026T010000
END:STANDARD
END:VTIMEZONE
BEGIN:VEVENT
DTSTART;TZID=Europe/Berlin:20251002T190000
DTEND;TZID=Europe/Berlin:20251002T220000
DTSTAMP:20260425T005908
CREATED:20250924T190000Z
LAST-MODIFIED:20250924T190019Z
UID:1237-1759431600-1759442400@www.brassimo.at
SUMMARY:Brassimo - Luft nach oben - Leibnitz
DESCRIPTION:
URL:https://www.brassimo.at/event/brassimo-luft-nach-oben/
END:VEVENT
END:VCALENDAR