BEGIN:VCALENDAR
VERSION:2.0
PRODID:-//Brassimo - ECPv5.3.0//NONSGML v1.0//EN
CALSCALE:GREGORIAN
METHOD:PUBLISH
X-WR-CALNAME:Brassimo
X-ORIGINAL-URL:https://www.brassimo.at
X-WR-CALDESC:Veranstaltungen für Brassimo
BEGIN:VTIMEZONE
TZID:Europe/Berlin
BEGIN:DAYLIGHT
TZOFFSETFROM:+0100
TZOFFSETTO:+0200
TZNAME:CEST
DTSTART:20260329T010000
END:DAYLIGHT
BEGIN:STANDARD
TZOFFSETFROM:+0200
TZOFFSETTO:+0100
TZNAME:CET
DTSTART:20261025T010000
END:STANDARD
END:VTIMEZONE
BEGIN:VEVENT
DTSTART;TZID=Europe/Berlin:20261112T190000
DTEND;TZID=Europe/Berlin:20261112T220000
DTSTAMP:20260424T142647
CREATED:20260102T103813Z
LAST-MODIFIED:20260310T135145Z
UID:1279-1794510000-1794520800@www.brassimo.at
SUMMARY:Brassimo - VAZ St. Katharein
DESCRIPTION:Infos folgen.
URL:https://www.brassimo.at/event/brassimo-vaz-st-katharein/
LOCATION:St. Katharein an der Laming\, Sankt Katharein an der Laming 84\, Tragöß-Sankt Katharein\, Steiermark\, 8611\, Österreich
END:VEVENT
BEGIN:VEVENT
DTSTART;TZID=Europe/Berlin:20261015T190000
DTEND;TZID=Europe/Berlin:20261015T220000
DTSTAMP:20260424T142647
CREATED:20260102T103948Z
LAST-MODIFIED:20260102T103948Z
UID:1283-1792090800-1792101600@www.brassimo.at
SUMMARY:Brassimo - Wagna
DESCRIPTION:Infos folgen.
URL:https://www.brassimo.at/event/brassimo-wagna/
LOCATION:Josef-Baumann-Saal Wagna\, Franz-Trampusch-Platz 2\, Wagna\, 8435\, Österreich
END:VEVENT
BEGIN:VEVENT
DTSTART;TZID=Europe/Berlin:20260930T190000
DTEND;TZID=Europe/Berlin:20260930T220000
DTSTAMP:20260424T142647
CREATED:20260102T103904Z
LAST-MODIFIED:20260102T103904Z
UID:1281-1790794800-1790805600@www.brassimo.at
SUMMARY:Brassimo - St. Georgen an der Stiefing
DESCRIPTION:Infos folgen.
URL:https://www.brassimo.at/event/brassimo-st-georgen-an-der-stiefing/
END:VEVENT
BEGIN:VEVENT
DTSTART;TZID=Europe/Berlin:20260611T193000
DTEND;TZID=Europe/Berlin:20260611T223000
DTSTAMP:20260424T142647
CREATED:20260102T103623Z
LAST-MODIFIED:20260310T135500Z
UID:1276-1781206200-1781217000@www.brassimo.at
SUMMARY:Brassimo - "Luft nach oben" in Allerheiligen bei Wildon
DESCRIPTION:Open Air am Kirchplatz – bei Schlechtwetter findet die Veranstaltung im Turnsaal der VS statt!
URL:https://www.brassimo.at/event/brassimo-luft-nach-oben-allerheiligen/
LOCATION:Kirchplatz Allerheiligen\, Allerheiligen bei Wildon 240\, Allerheiligen bei Wildon\, Steiermark\, 8412\, Österreich
END:VEVENT
BEGIN:VEVENT
DTSTART;TZID=Europe/Berlin:20260520T190000
DTEND;TZID=Europe/Berlin:20260520T220000
DTSTAMP:20260424T142647
CREATED:20260102T103450Z
LAST-MODIFIED:20260310T135451Z
UID:1274-1779303600-1779314400@www.brassimo.at
SUMMARY:Brassimo - "Luft nach oben" in Deutschlandsberg
DESCRIPTION:
URL:https://www.brassimo.at/event/brassimo-luft-nach-oben-deutschlandsberg/
LOCATION:Lassnitzhaus\, Hollenegger Straße 8\, Deutschlandsberg\, Steiermark\, 8530\, Österreich
END:VEVENT
END:VCALENDAR